BEGIN:VCALENDAR
VERSION:2.0
PRODID:-//Village Of Webberville - ECPv6.15.20//NONSGML v1.0//EN
CALSCALE:GREGORIAN
METHOD:PUBLISH
X-ORIGINAL-URL:https://webbervillemi.com
X-WR-CALDESC:Events for Village Of Webberville
REFRESH-INTERVAL;VALUE=DURATION:PT1H
X-Robots-Tag:noindex
X-PUBLISHED-TTL:PT1H
BEGIN:VTIMEZONE
TZID:UTC
BEGIN:STANDARD
TZOFFSETFROM:+0000
TZOFFSETTO:+0000
TZNAME:UTC
DTSTART:20230101T000000
END:STANDARD
END:VTIMEZONE
BEGIN:VEVENT
DTSTART;TZID=UTC:20241210T180000
DTEND;TZID=UTC:20241210T210000
DTSTAMP:20260421T182830
CREATED:20241021T175229Z
LAST-MODIFIED:20241021T175229Z
UID:108242-1733853600-1733864400@webbervillemi.com
SUMMARY:Village Council Meeting
DESCRIPTION:
URL:https://webbervillemi.com/event/village-council-meeting-32/
LOCATION:Village Hall\, 115 S Main St\, Webberville\, MI\, 48892\, United States
CATEGORIES:Meetings
END:VEVENT
BEGIN:VEVENT
DTSTART;TZID=UTC:20241216T173000
DTEND;TZID=UTC:20241216T193000
DTSTAMP:20260421T182830
CREATED:20241021T175318Z
LAST-MODIFIED:20241204T142402Z
UID:108244-1734370200-1734377400@webbervillemi.com
SUMMARY:DDA Meeting - Reschedule for December 9th
DESCRIPTION:
URL:https://webbervillemi.com/event/dda-meeting-4/
LOCATION:Village Hall\, 115 S Main St\, Webberville\, MI\, 48892\, United States
CATEGORIES:Meetings,WDDA Meetings
END:VEVENT
BEGIN:VEVENT
DTSTART;TZID=UTC:20241217T180000
DTEND;TZID=UTC:20241217T210000
DTSTAMP:20260421T182830
CREATED:20241021T175454Z
LAST-MODIFIED:20241021T175454Z
UID:108246-1734458400-1734469200@webbervillemi.com
SUMMARY:Village Council Meeting
DESCRIPTION:
URL:https://webbervillemi.com/event/village-council-meeting-33/
LOCATION:Village Hall\, 115 S Main St\, Webberville\, MI\, 48892\, United States
CATEGORIES:Meetings
END:VEVENT
END:VCALENDAR