BEGIN:VCALENDAR
VERSION:2.0
PRODID:-//Village Of Webberville - ECPv6.15.20//NONSGML v1.0//EN
CALSCALE:GREGORIAN
METHOD:PUBLISH
X-WR-CALNAME:Village Of Webberville
X-ORIGINAL-URL:https://webbervillemi.com
X-WR-CALDESC:Events for Village Of Webberville
REFRESH-INTERVAL;VALUE=DURATION:PT1H
X-Robots-Tag:noindex
X-PUBLISHED-TTL:PT1H
BEGIN:VTIMEZONE
TZID:UTC
BEGIN:STANDARD
TZOFFSETFROM:+0000
TZOFFSETTO:+0000
TZNAME:UTC
DTSTART:20200101T000000
END:STANDARD
END:VTIMEZONE
BEGIN:VEVENT
DTSTART;TZID=UTC:20211026T183000
DTEND;TZID=UTC:20211026T203000
DTSTAMP:20260421T215431
CREATED:20210519T150837Z
LAST-MODIFIED:20210519T150837Z
UID:107139-1635273000-1635280200@webbervillemi.com
SUMMARY:Committee Of The Whole Meeting October 26th 2021
DESCRIPTION:
URL:https://webbervillemi.com/event/committee-of-the-whole-meeting-october-26th-2021/
LOCATION:Village Hall\, 115 S Main St\, Webberville\, MI\, 48892\, United States
CATEGORIES:Committee Of The Whole Meetings
END:VEVENT
BEGIN:VEVENT
DTSTART;TZID=UTC:20210928T183000
DTEND;TZID=UTC:20210928T203000
DTSTAMP:20260421T215431
CREATED:20210519T150309Z
LAST-MODIFIED:20210519T150309Z
UID:107133-1632853800-1632861000@webbervillemi.com
SUMMARY:Committee Of The Whole Meeting September 28th 2021
DESCRIPTION:
URL:https://webbervillemi.com/event/committee-of-the-whole-meeting-september-28th-2021/
LOCATION:Village Hall\, 115 S Main St\, Webberville\, MI\, 48892\, United States
CATEGORIES:Committee Of The Whole Meetings
END:VEVENT
BEGIN:VEVENT
DTSTART;TZID=UTC:20210824T183000
DTEND;TZID=UTC:20210824T203000
DTSTAMP:20260421T215431
CREATED:20210519T145609Z
LAST-MODIFIED:20210519T145609Z
UID:107125-1629829800-1629837000@webbervillemi.com
SUMMARY:Committee Of The Whole Meeting August 24th 2021
DESCRIPTION:
URL:https://webbervillemi.com/event/committee-of-the-whole-meeting-august-24th-2021/
LOCATION:Village Hall\, 115 S Main St\, Webberville\, MI\, 48892\, United States
CATEGORIES:Committee Of The Whole Meetings
END:VEVENT
BEGIN:VEVENT
DTSTART;TZID=UTC:20210727T183000
DTEND;TZID=UTC:20210727T203000
DTSTAMP:20260421T215431
CREATED:20210519T145221Z
LAST-MODIFIED:20210519T145221Z
UID:107118-1627410600-1627417800@webbervillemi.com
SUMMARY:Committee Of The Whole Meeting July 27th 2021
DESCRIPTION:
URL:https://webbervillemi.com/event/committee-of-the-whole-meeting-july-27th-2021/
LOCATION:Village Hall\, 115 S Main St\, Webberville\, MI\, 48892\, United States
CATEGORIES:Committee Of The Whole Meetings
END:VEVENT
BEGIN:VEVENT
DTSTART;TZID=UTC:20210622T183000
DTEND;TZID=UTC:20210622T203000
DTSTAMP:20260421T215431
CREATED:20210519T143346Z
LAST-MODIFIED:20210519T143346Z
UID:107110-1624386600-1624393800@webbervillemi.com
SUMMARY:Committee Of The Whole Meeting June 22nd 2021
DESCRIPTION:
URL:https://webbervillemi.com/event/committee-of-the-whole-meeting-june-22nd-2021/
LOCATION:Village Hall\, 115 S Main St\, Webberville\, MI\, 48892\, United States
CATEGORIES:Committee Of The Whole Meetings
END:VEVENT
BEGIN:VEVENT
DTSTART;TZID=UTC:20210525T183000
DTEND;TZID=UTC:20210525T203000
DTSTAMP:20260421T215431
CREATED:20210519T142346Z
LAST-MODIFIED:20210519T142454Z
UID:107100-1621967400-1621974600@webbervillemi.com
SUMMARY:Committee Of The Whole Meeting May 25th 2021
DESCRIPTION:
URL:https://webbervillemi.com/event/committee-of-the-whole-meeting/
LOCATION:Village Hall\, 115 S Main St\, Webberville\, MI\, 48892\, United States
CATEGORIES:Committee Of The Whole Meetings
END:VEVENT
END:VCALENDAR